BEGIN:VCALENDAR
VERSION:2.0
PRODID:-//Radio Campus Clermont-Ferrand - ECPv6.11.2//NONSGML v1.0//EN
CALSCALE:GREGORIAN
METHOD:PUBLISH
X-ORIGINAL-URL:https://campus-clermont.net
X-WR-CALDESC:Évènements pour Radio Campus Clermont-Ferrand
REFRESH-INTERVAL;VALUE=DURATION:PT1H
X-Robots-Tag:noindex
X-PUBLISHED-TTL:PT1H
BEGIN:VTIMEZONE
TZID:Europe/Paris
BEGIN:DAYLIGHT
TZOFFSETFROM:+0100
TZOFFSETTO:+0200
TZNAME:CEST
DTSTART:20230326T010000
END:DAYLIGHT
BEGIN:STANDARD
TZOFFSETFROM:+0200
TZOFFSETTO:+0100
TZNAME:CET
DTSTART:20231029T010000
END:STANDARD
END:VTIMEZONE
BEGIN:VEVENT
DTSTART;TZID=Europe/Paris:20231005T190000
DTEND;TZID=Europe/Paris:20231005T200000
DTSTAMP:20260425T160121
CREATED:20230919T132615Z
LAST-MODIFIED:20230919T141044Z
UID:11407-1696532400-1696536000@campus-clermont.net
SUMMARY:Live In Room avec Aurel Bonnefont & Friends
DESCRIPTION:Le jeudi 5 Octobre à 19h retrouvez Aurel Bonnefont & Friends dans le Live In Room\, votre rendez-vous hebdomadaire des découvertes musicales locales! 🔥 \n  \nAssocié à sa Telecaster bien aimée\, Aurel Bonnefont vous emmène dans un nouvel univers musical aux couleurs bleues. Fortement épris de Chicago Blues\, de Texas Blues\, de Soul et de Rythm & Blues\, ses compositions n’ont qu’un seul but : vous faire voyager à travers des ambiances où l’émotion est reine \nGuitare & Chant : Aurel Bonnefont\nBasse : Vincent Coudignat\nBatterie : Julien Pinot \nhttps://aurelbonnefontandfriends.bandcamp.com/album/the-octopus-sessions \n🎤 \n💥On vous attend en personne au Pôle 22bis dans les locaux de Radio Campus\, le bar associatif sera ouvert! 💥 \n📍Pôle 22bis Impasse Bonnabaud 63000 Clermont-Ferrand\n🔊93.3FM ou https://campus-clermont.net/popup/
URL:https://campus-clermont.net/evenement/live-in-room-avec-aurel-bonnefont-friends/
LOCATION:Radio Campus Clermont-Ferrand\, 22 Bis Imp. Bonnabaud\, Clermont-Ferrand\, 63000\, France
CATEGORIES:Live In Room
ATTACH;FMTTYPE=image/png:https://campus-clermont.net/wp-content/uploads/2023/09/lir-aurel.png
END:VEVENT
BEGIN:VEVENT
DTSTART;TZID=Europe/Paris:20231012T190000
DTEND;TZID=Europe/Paris:20231012T200000
DTSTAMP:20260425T160121
CREATED:20230919T140933Z
LAST-MODIFIED:20230919T140933Z
UID:11411-1697137200-1697140800@campus-clermont.net
SUMMARY:Live In Room avec Les Anges Ailleurs
DESCRIPTION:Le jeudi 12 Octobre à 19h retrouvez Les Anges Ailleurs dans le Live In Room\, votre rendez-vous hebdomadaire des découvertes musicales locales! 🔥 \nLes Anges Ailleurs\, un groupe indissociable du partage et de la camaraderie musicale. Autour d’un répertoire de chansons françaises\, aux textes et messages poétiques\, exposant leur sensibilité et leurs engagements avec bienveillance et chaleur humaine\, c’est avec authenticité qu’ils ont fondé leur amitié et proposent de partager leur créativité aux couleurs singulières.\nVioloncelle\, piano\, guitares et percussions\, ce quatuor au grand cœur vous embarquera dans un voyage musical et émotionnel. \nPour des raisons de confidentialité YouTube a besoin de votre autorisation pour charger.J'accepte\n🎤 \n💥On vous attend en personne au Pôle 22bis dans les locaux de Radio Campus\, le bar associatif sera ouvert! 💥 \n📍Pôle 22bis Impasse Bonnabaud 63000 Clermont-Ferrand\n🔊93.3FM ou https://campus-clermont.net/popup/
URL:https://campus-clermont.net/evenement/live-in-room-avec-les-anges-ailleurs/
LOCATION:Radio Campus Clermont-Ferrand\, 22 Bis Imp. Bonnabaud\, Clermont-Ferrand\, 63000\, France
CATEGORIES:Live In Room
ATTACH;FMTTYPE=image/png:https://campus-clermont.net/wp-content/uploads/2023/09/lir-anges.png
END:VEVENT
BEGIN:VEVENT
DTSTART;TZID=Europe/Paris:20231019T190000
DTEND;TZID=Europe/Paris:20231019T200000
DTSTAMP:20260425T160122
CREATED:20231005T093421Z
LAST-MODIFIED:20231005T093421Z
UID:11597-1697742000-1697745600@campus-clermont.net
SUMMARY:Live in room avec I.S.I. 8
DESCRIPTION:Le jeudi 19 Octobre à 19h retrouvez I.S.I. 8 dans le Live In Room\, votre rendez-vous hebdomadaire des découvertes musicales locales! 🔥 \nGroupe de rock alternatif/industriel aux compositions éclectiques autant calmes et planantes qu’agressives et énergiques\nUtilisation de samples\, percussions additionnelles\, boîtes à rythmes et synthétiseurs parallèlement a nos guitares électriques et batterie accoustique \nPour des raisons de confidentialité SoundCloud a besoin de votre autorisation pour charger.J'accepte\n🎤 \n💥On vous attend en personne au Pôle 22bis dans les locaux de Radio Campus\, le bar associatif sera ouvert! 💥 \n📍Pôle 22bis Impasse Bonnabaud 63000 Clermont-Ferrand\n🔊93.3FM ou https://campus-clermont.net/popup/
URL:https://campus-clermont.net/evenement/live-in-room-avec-i-s-i-8/
LOCATION:Radio Campus Clermont-Ferrand\, 22 Bis Imp. Bonnabaud\, Clermont-Ferrand\, 63000\, France
CATEGORIES:Live In Room
ATTACH;FMTTYPE=image/png:https://campus-clermont.net/wp-content/uploads/2023/10/lir-isi-8.png
END:VEVENT
BEGIN:VEVENT
DTSTART;TZID=Europe/Paris:20231026T190000
DTEND;TZID=Europe/Paris:20231026T200000
DTSTAMP:20260425T160122
CREATED:20231018T152448Z
LAST-MODIFIED:20231018T152448Z
UID:11681-1698346800-1698350400@campus-clermont.net
SUMMARY:Live In Room avec Hugo Demay
DESCRIPTION:Le jeudi 26 Octobre à 19h retrouvez Hugo Demay dans le Live In Room\, votre rendez-vous hebdomadaire des découvertes musicales locales! 🔥 \nAu fil de mes compositions et de mes reprises je vous chante la nostalgie et la bohème. \nPour des raisons de confidentialité YouTube a besoin de votre autorisation pour charger.J'accepte\n🎤 \n💥On vous attend en personne au Pôle 22bis dans les locaux de Radio Campus\, le bar associatif sera ouvert! 💥 \n📍Pôle 22bis Impasse Bonnabaud 63000 Clermont-Ferrand\n🔊93.3FM ou https://campus-clermont.net/popup/
URL:https://campus-clermont.net/evenement/live-in-room-avec-hugo-demay/
LOCATION:Radio Campus Clermont-Ferrand\, 22 Bis Imp. Bonnabaud\, Clermont-Ferrand\, 63000\, France
CATEGORIES:Live In Room
ATTACH;FMTTYPE=image/png:https://campus-clermont.net/wp-content/uploads/2023/10/lir-hugo-demay.png
END:VEVENT
END:VCALENDAR