BEGIN:VCALENDAR
VERSION:2.0
PRODID:-//Radio Campus Clermont-Ferrand - ECPv6.11.2//NONSGML v1.0//EN
CALSCALE:GREGORIAN
METHOD:PUBLISH
X-ORIGINAL-URL:https://campus-clermont.net
X-WR-CALDESC:Évènements pour Radio Campus Clermont-Ferrand
REFRESH-INTERVAL;VALUE=DURATION:PT1H
X-Robots-Tag:noindex
X-PUBLISHED-TTL:PT1H
BEGIN:VTIMEZONE
TZID:Europe/Paris
BEGIN:DAYLIGHT
TZOFFSETFROM:+0100
TZOFFSETTO:+0200
TZNAME:CEST
DTSTART:20230326T010000
END:DAYLIGHT
BEGIN:STANDARD
TZOFFSETFROM:+0200
TZOFFSETTO:+0100
TZNAME:CET
DTSTART:20231029T010000
END:STANDARD
END:VTIMEZONE
BEGIN:VEVENT
DTSTART;TZID=Europe/Paris:20230907T190000
DTEND;TZID=Europe/Paris:20230907T230000
DTSTAMP:20260425T172739
CREATED:20230901T141736Z
LAST-MODIFIED:20230901T143124Z
UID:11229-1694113200-1694127600@campus-clermont.net
SUMMARY:Live in room Spécial programmateurs
DESCRIPTION:Le jeudi 7 Septembre à 19h retrouvez la spéciale des programmateurs dans le Live In Room\, votre rendez-vous hebdomadaire des découvertes musicales locales! 🔥 \nLes programmateurs de Radiocampus Clermont-Ferrand vous proposerons une playlist éclectique.\n🎤 \n💥On vous attend en personne au Pôle 22bis dans les locaux de Radio Campus\, le bar associatif sera ouvert! 💥 \n📍Pôle 22bis Impasse Bonnabaud 63000 Clermont-Ferrand\n🔊93.3FM ou https://campus-clermont.net/popup/ \n 
URL:https://campus-clermont.net/evenement/live-in-room-special-programmateurs/
LOCATION:Radio Campus Clermont-Ferrand\, 22 Bis Imp. Bonnabaud\, Clermont-Ferrand\, 63000\, France
CATEGORIES:Live In Room
ATTACH;FMTTYPE=image/png:https://campus-clermont.net/wp-content/uploads/2023/09/lir-prog.png
END:VEVENT
BEGIN:VEVENT
DTSTART;TZID=Europe/Paris:20230914T190000
DTEND;TZID=Europe/Paris:20230914T200000
DTSTAMP:20260425T172739
CREATED:20230901T144113Z
LAST-MODIFIED:20230901T144113Z
UID:11238-1694718000-1694721600@campus-clermont.net
SUMMARY:Live In Room avec Shaadoow
DESCRIPTION:Le jeudi 14 Septembre à 19h retrouvez Shaadoow dans le Live In Room\, votre rendez-vous hebdomadaire des découvertes musicales locales! 🔥 \nSHAADOOW. Auteur compositeur et interprète \nMusique: ZANGOMA Comores\, mêlé a du Reggae\, Blues… \nPour des raisons de confidentialité YouTube a besoin de votre autorisation pour charger.J'accepte\n🎤 \n💥On vous attend en personne au Pôle 22bis dans les locaux de Radio Campus\, le bar associatif sera ouvert! 💥 \n📍Pôle 22bis Impasse Bonnabaud 63000 Clermont-Ferrand\n🔊93.3FM ou https://campus-clermont.net/popup/
URL:https://campus-clermont.net/evenement/live-in-room-avec-shaadoow/
LOCATION:Radio Campus Clermont-Ferrand\, 22 Bis Imp. Bonnabaud\, Clermont-Ferrand\, 63000\, France
CATEGORIES:Live In Room
ATTACH;FMTTYPE=image/png:https://campus-clermont.net/wp-content/uploads/2023/09/lir-shaadoow.png
END:VEVENT
BEGIN:VEVENT
DTSTART;TZID=Europe/Paris:20230921T190000
DTEND;TZID=Europe/Paris:20230921T200000
DTSTAMP:20260425T172739
CREATED:20230901T150633Z
LAST-MODIFIED:20230904T132714Z
UID:11244-1695322800-1695326400@campus-clermont.net
SUMMARY:Live In Room avec Rylaks
DESCRIPTION:Le jeudi 21 Septembre à 19h retrouvez Rylaks dans le Live In Room\, votre rendez-vous hebdomadaire des découvertes musicales locales! 🔥 \nhttps://www.youtube.com/watch?v=XkuxNpZ6gTM\n🎤 \n💥On vous attend en personne au Pôle 22bis dans les locaux de Radio Campus\, le bar associatif sera ouvert! 💥 \n📍Pôle 22bis Impasse Bonnabaud 63000 Clermont-Ferrand\n🔊93.3FM ou https://campus-clermont.net/popup/
URL:https://campus-clermont.net/evenement/live-in-room-avec-reelaks/
LOCATION:Radio Campus Clermont-Ferrand\, 22 Bis Imp. Bonnabaud\, Clermont-Ferrand\, 63000\, France
CATEGORIES:Live In Room
ATTACH;FMTTYPE=image/png:https://campus-clermont.net/wp-content/uploads/2023/09/lir-rylaks.png
END:VEVENT
BEGIN:VEVENT
DTSTART;TZID=Europe/Paris:20230928T190000
DTEND;TZID=Europe/Paris:20230928T200000
DTSTAMP:20260425T172739
CREATED:20230920T124611Z
LAST-MODIFIED:20230920T124611Z
UID:11428-1695927600-1695931200@campus-clermont.net
SUMMARY:Live In Room avec Mariem
DESCRIPTION:Le jeudi 28 Septembre à 19h retrouvez Mariem dans le Live In Room\, votre rendez-vous hebdomadaire des découvertes musicales locales! 🔥 \nUn brin poétique\, parfois nostalgique\, MARIEM est auteur\, compositeur et interprète de chansons (d’amour… ou pas ! ) françaises. \nPour des raisons de confidentialité YouTube a besoin de votre autorisation pour charger.J'accepte\n🎤 \n💥On vous attend en personne au Pôle 22bis dans les locaux de Radio Campus\, le bar associatif sera ouvert! 💥 \n📍Pôle 22bis Impasse Bonnabaud 63000 Clermont-Ferrand\n🔊93.3FM ou https://campus-clermont.net/popup/
URL:https://campus-clermont.net/evenement/live-in-room-avec-mariem/
LOCATION:Radio Campus Clermont-Ferrand\, 22 Bis Imp. Bonnabaud\, Clermont-Ferrand\, 63000\, France
CATEGORIES:Live In Room
ATTACH;FMTTYPE=image/png:https://campus-clermont.net/wp-content/uploads/2023/09/lir-mariem.png
END:VEVENT
END:VCALENDAR